BEGIN:VCALENDAR
VERSION:2.0
PRODID:-//Alliances Management Consulting - ECPv5.5.0.1//NONSGML v1.0//EN
CALSCALE:GREGORIAN
METHOD:PUBLISH
X-WR-CALNAME:Alliances Management Consulting
X-ORIGINAL-URL:https://am.consulting
X-WR-CALDESC:Events for Alliances Management Consulting
BEGIN:VTIMEZONE
TZID:UTC
BEGIN:STANDARD
TZOFFSETFROM:+0000
TZOFFSETTO:+0000
TZNAME:UTC
DTSTART:20200101T000000
END:STANDARD
END:VTIMEZONE
BEGIN:VEVENT
DTSTART;VALUE=DATE:20200225
DTEND;VALUE=DATE:20200227
DTSTAMP:20260420T005114
CREATED:20200212T012213Z
LAST-MODIFIED:20200212T012213Z
UID:1162-1582588800-1582761599@am.consulting
SUMMARY:STA Payments Summit
DESCRIPTION:Event: STA Payments Summit \nPanel Session: Securing Online Retail Channels – how EMVCo\, W3C\, FIDO\, and ZenKey can co-exist in the real world\nSpeaker: Clinton Allen\, Chair of the Secure Remote Commerce Task Force\, EMVCo\nDate: Tuesday 25 February\nTime: 2:15 – 3:15pm \nPresentation: EMV® Secure Remote Commerce\nSpeaker: Clinton Allen\, Chair of the Secure Remote Commerce Task Force\, EMVCo\nDate: Wednesday 26 February\nTime: 9:00 – 10:15am
URL:https://am.consulting/event/sta-payments-summit/
LOCATION:Salt Lake Marriott Downtown at City Creek\, 75 South West Temple\, Salt Lake City\, UT\, 84101\, United States
CATEGORIES:EMVCo
ATTACH;FMTTYPE=image/png:https://am.consulting/wp-content/uploads/2020/02/sta-payments-summit.png
END:VEVENT
END:VCALENDAR